BEGIN:VCALENDAR
VERSION:2.0
PRODID:-//AES San Francisco Section - ECPv6.15.20//NONSGML v1.0//EN
CALSCALE:GREGORIAN
METHOD:PUBLISH
X-WR-CALNAME:AES San Francisco Section
X-ORIGINAL-URL:https://aessf.org
X-WR-CALDESC:Events for AES San Francisco Section
REFRESH-INTERVAL;VALUE=DURATION:PT1H
X-Robots-Tag:noindex
X-PUBLISHED-TTL:PT1H
BEGIN:VTIMEZONE
TZID:America/Los_Angeles
BEGIN:DAYLIGHT
TZOFFSETFROM:-0800
TZOFFSETTO:-0700
TZNAME:PDT
DTSTART:20250309T100000
END:DAYLIGHT
BEGIN:STANDARD
TZOFFSETFROM:-0700
TZOFFSETTO:-0800
TZNAME:PST
DTSTART:20251102T090000
END:STANDARD
BEGIN:DAYLIGHT
TZOFFSETFROM:-0800
TZOFFSETTO:-0700
TZNAME:PDT
DTSTART:20260308T100000
END:DAYLIGHT
BEGIN:STANDARD
TZOFFSETFROM:-0700
TZOFFSETTO:-0800
TZNAME:PST
DTSTART:20261101T090000
END:STANDARD
BEGIN:DAYLIGHT
TZOFFSETFROM:-0800
TZOFFSETTO:-0700
TZNAME:PDT
DTSTART:20270314T100000
END:DAYLIGHT
BEGIN:STANDARD
TZOFFSETFROM:-0700
TZOFFSETTO:-0800
TZNAME:PST
DTSTART:20271107T090000
END:STANDARD
END:VTIMEZONE
BEGIN:VEVENT
DTSTART;TZID=America/Los_Angeles:20260218T180000
DTEND;TZID=America/Los_Angeles:20260218T210000
DTSTAMP:20260423T131358
CREATED:20260218T004727Z
LAST-MODIFIED:20260218T043224Z
UID:2362-1771437600-1771448400@aessf.org
SUMMARY:Meta's Immersive Studios Tour
DESCRIPTION:AES San Francisco members are invited to an exclusive tour of Meta’s Creative Audio Studios for an exclusive tour of the state-of-the-art immersive studios operated by the Meta Creative Audio – Studio Production Team. \nWe’ll explore a range of world-class facilities\, including: \n\nA spacious 9.1.6 immersive audio room\nDedicated 7.1.4 rooms\nMultiple 5.1 suites\nA professional foley stage\nA large music studio\n\nDuring the tour\, you’ll learn about Meta’s work in immersive audio—what drives their innovation\, how they’re pushing boundaries\, and the impact of some of their projects. Experience a selection of music created by the team\, and get a glimpse of where their work is headed next. \nLight hors d’oeuvres and non-alcoholic refreshments will be provided. \n 
URL:https://aessf.org/event/metas-immersive-studios-tour/
CATEGORIES:Home Page,Section Meetings
ATTACH;FMTTYPE=image/png:https://aessf.org/wp-content/uploads/2026/02/Screenshot-2026-02-17-164146.png
END:VEVENT
END:VCALENDAR