BEGIN:VCALENDAR
VERSION:2.0
PRODID:-//AES San Francisco Section - ECPv6.15.20//NONSGML v1.0//EN
CALSCALE:GREGORIAN
METHOD:PUBLISH
X-ORIGINAL-URL:https://aessf.org
X-WR-CALDESC:Events for AES San Francisco Section
REFRESH-INTERVAL;VALUE=DURATION:PT1H
X-Robots-Tag:noindex
X-PUBLISHED-TTL:PT1H
BEGIN:VTIMEZONE
TZID:America/Los_Angeles
BEGIN:DAYLIGHT
TZOFFSETFROM:-0800
TZOFFSETTO:-0700
TZNAME:PDT
DTSTART:20220313T100000
END:DAYLIGHT
BEGIN:STANDARD
TZOFFSETFROM:-0700
TZOFFSETTO:-0800
TZNAME:PST
DTSTART:20221106T090000
END:STANDARD
BEGIN:DAYLIGHT
TZOFFSETFROM:-0800
TZOFFSETTO:-0700
TZNAME:PDT
DTSTART:20230312T100000
END:DAYLIGHT
BEGIN:STANDARD
TZOFFSETFROM:-0700
TZOFFSETTO:-0800
TZNAME:PST
DTSTART:20231105T090000
END:STANDARD
BEGIN:DAYLIGHT
TZOFFSETFROM:-0800
TZOFFSETTO:-0700
TZNAME:PDT
DTSTART:20240310T100000
END:DAYLIGHT
BEGIN:STANDARD
TZOFFSETFROM:-0700
TZOFFSETTO:-0800
TZNAME:PST
DTSTART:20241103T090000
END:STANDARD
END:VTIMEZONE
BEGIN:VEVENT
DTSTART;TZID=America/Los_Angeles:20230207T180000
DTEND;TZID=America/Los_Angeles:20230207T200000
DTSTAMP:20260425T194051
CREATED:20230127T122211Z
LAST-MODIFIED:20230207T090906Z
UID:1286-1675792800-1675800000@aessf.org
SUMMARY:Analog vs. Digital Processing - Bob Katz's Choices
DESCRIPTION:Bob Katz will present some technical measurements and aesthetic observations about this disputable topic. Standby for the fireworks! \nJoin the AESSF for what’s certain to be a rousing discussion. \nIncluded in this meeting:\nVIRTUOSO: BINAURAL TRANSLATOR \nA discussion and high resolution demonstration\, hosted by Bob Katz \nVirtuoso is a new\, cutting edge binaural technology for virtualizing stereo or immersive audio and a listening room for headphone monitoring\, with excellent tonal/spatial fidelity and a highly accurate translation to real loudspeakers. \nFor example\, create a stereo or immersive mix\, feed it through Virtuoso and out comes binaural that Bob feels sounds like it’s coming from his Mastering-quality loudspeaker system in his well-treated mastering room. With excellent externalization (out of head impression). Virtuoso can be used on the road or wherever quality loudspeaker monitoring is not available. You can be the judge of that on Tuesday\, February 7. \nVirtuoso was developed by Dr. Hyunkook Lee of the University of Huddersfield\, England. \nBob will be using Streamwire to send high resolution audio. For the very best audio quality\, please use a DAW at 48 kHz\, internal clock. Use your best DAC\, headphones\, and headphone amplifier. You can listen to high resolution audio through your browser. \nCome by early to get accustomed to Streamwire\, Bob will be playing music starting at 5pm. \nHere is a link with full information and the link to the Streamwire stream (which does not require any downloads or subscriptions):\nhttps://digido.com/livestream \nLog in to this live online presentation at: https://youtu.be/8pLr4dHXlOk with the samples playing on Streamwire. \nBio\nWith over 50 years as an audio professional\, Bob Katz has recorded and mastered three Grammy-winning albums and several nominees. He masters all styles of music as president and mastering engineer at Digital Domain\, Orlando\, FL. \nIn 1988\, Bob became Technical Supervisor and recording engineer for audiophile label Chesky Records. He produced the world’s first commercial oversampled recordings with his own implementation of the DBX ADC. His recordings for Chesky used one mike or minimalist miking\, were acclaimed for their balance\, depth\, clarity and purity of tone. In 1997\, he recorded the first 96 kHz/24-bit audio-only DVD. \nHe is a life Fellow of the AES. He was workshops Chairman of the AES 74th Convention\, Facilities Chair of the 79th\, and chaired the 1994 NY Section. Most recently\, he has been an active member the subcommittee which produced TD-1008\, Recommendations for Loudness of Internet Audio Streaming and In-Demand Distribution\, superceding TD-1004. This group took over a year to refine every word in this document. \nHis book\, “Mastering Audio: The Art and the Science”\, in its third edition\, has been translated to Chinese\, German and Spanish. It has sold over 150\, 000 copies. \nHe has created several digital audio products and has invented\, patented and licensed the K-stereo and K-Surround Processes.
URL:https://aessf.org/event/analog-vs-digital-processing-bob-katzs-choices/
CATEGORIES:Home Page,Section Meetings
ATTACH;FMTTYPE=image/jpeg:https://aessf.org/wp-content/uploads/2023/01/Bob-Katz-Website.jpg
END:VEVENT
BEGIN:VEVENT
DTSTART;TZID=America/Los_Angeles:20230216T193000
DTEND;TZID=America/Los_Angeles:20230216T210000
DTSTAMP:20260425T194051
CREATED:20230127T110613Z
LAST-MODIFIED:20230206T044755Z
UID:1294-1676575800-1676581200@aessf.org
SUMMARY:Hyde Street Studios Drum Miking Workshop with Will Chason
DESCRIPTION:Grammy award winning engineer Will Chason walks through his drum miking setup at historic Hyde Street Studios. \nLog in to this live online presentation at: https://youtu.be/FZUbIep-XHc \nBio\nWill Chason is an award winning (engineer- Best Rap Song Grammy 2021\, BBMA Best Christian Album\, Best Gospel Album)\, multiplatinum engineer\, as well as a producer and multi-instrumentalist.  \nWill has worked as a lead engineer with artists and producers such as Lil Nas X\, Kayne West\, Rick Rubin\, Tyler The Creator\, RZA\, Pusha T\, The Head and The Heart\, Steve Lacey (The Internet)\, Mike Dean\, Corey Henry (Snarky Puppy)\, Vory\, Walk The Moon\, Warryn Campbell\, and many others. \nEqually at home setting up and running large scale writers camps\, detailed driven recording sessions\, or production and mixing services\, Will can take your vision to where it needs to go\, at any scale. \n  \n 
URL:https://aessf.org/event/hyde-street-studios-drum-miking-workshop-with-will-chason/
CATEGORIES:Home Page,Section Meetings
ATTACH;FMTTYPE=image/jpeg:https://aessf.org/wp-content/uploads/2023/01/Hyde-Drum-workshop-redo.jpg
END:VEVENT
END:VCALENDAR