BEGIN:VCALENDAR
VERSION:2.0
PRODID:-//AES San Francisco Section - ECPv6.15.20//NONSGML v1.0//EN
CALSCALE:GREGORIAN
METHOD:PUBLISH
X-WR-CALNAME:AES San Francisco Section
X-ORIGINAL-URL:https://aessf.org
X-WR-CALDESC:Events for AES San Francisco Section
REFRESH-INTERVAL;VALUE=DURATION:PT1H
X-Robots-Tag:noindex
X-PUBLISHED-TTL:PT1H
BEGIN:VTIMEZONE
TZID:America/Los_Angeles
BEGIN:DAYLIGHT
TZOFFSETFROM:-0800
TZOFFSETTO:-0700
TZNAME:PDT
DTSTART:20240310T100000
END:DAYLIGHT
BEGIN:STANDARD
TZOFFSETFROM:-0700
TZOFFSETTO:-0800
TZNAME:PST
DTSTART:20241103T090000
END:STANDARD
BEGIN:DAYLIGHT
TZOFFSETFROM:-0800
TZOFFSETTO:-0700
TZNAME:PDT
DTSTART:20250309T100000
END:DAYLIGHT
BEGIN:STANDARD
TZOFFSETFROM:-0700
TZOFFSETTO:-0800
TZNAME:PST
DTSTART:20251102T090000
END:STANDARD
BEGIN:DAYLIGHT
TZOFFSETFROM:-0800
TZOFFSETTO:-0700
TZNAME:PDT
DTSTART:20260308T100000
END:DAYLIGHT
BEGIN:STANDARD
TZOFFSETFROM:-0700
TZOFFSETTO:-0800
TZNAME:PST
DTSTART:20261101T090000
END:STANDARD
END:VTIMEZONE
BEGIN:VEVENT
DTSTART;TZID=America/Los_Angeles:20250319T130000
DTEND;TZID=America/Los_Angeles:20250319T170000
DTSTAMP:20260424T051035
CREATED:20250313T215441Z
LAST-MODIFIED:20250318T054045Z
UID:2031-1742389200-1742403600@aessf.org
SUMMARY:Experience Sony's 360 Virtual Mixing Environment at Coast Mastering
DESCRIPTION:  \nAES Members and community are invited to get personalized measurement for Sony’s 360 Virtual Mixing Environment (360VME).  With 360VME and Sony MDR-MV1 headphones\, you can edit\, design\, and pre-mix your sound anywhere. \nRegister for your preferred demo time slot directly with Sony through this link (you can only sign-up for one time-slot). Please provide your full name\, mobile number\, and email address. Come join us and learn about 360VME! \nDate: Wednesday\, March 19\nTime: 1pm-5pm PT\nLocation: Coast Mastering\, Berkeley\, CA \n \n \nWhat is 360VME? \n360VME is a game-changing remote sound creation technology\, providing incredibly accurate reproduction of sound room acoustics\, proven by four years of commercial title post production sound. \nSound professional user’s voice: 360VME user interview: MDR-MV1 Open-Back Studio Monitor Headphones have been designed for spatial sound professionals and fully tested with 360 VME technology. The 360 VME free trial program uses only MDR-MV1 headphones to provide a consistent sound experience. \nPlease e-mail: sec-360vme-contact@sony.com if you need assistance. \nBy submitting your RSVP\, you consent to the collection and use of your personal information in order to create your personal 360 Virtual Mixing Environment profile. Additionally\, please be aware that photographs and videos may be taken during the event and used for promotional or marketing materials.
URL:https://aessf.org/event/experience-sonys-360-virtual-mixing-environment/
CATEGORIES:Home Page,Section Meetings
ATTACH;FMTTYPE=image/jpeg:https://aessf.org/wp-content/uploads/2025/03/Romo-Coast-VME.jpg
END:VEVENT
BEGIN:VEVENT
DTSTART;TZID=America/Los_Angeles:20250320T183000
DTEND;TZID=America/Los_Angeles:20250320T213000
DTSTAMP:20260424T051035
CREATED:20250322T011253Z
LAST-MODIFIED:20250701T033910Z
UID:2043-1742495400-1742506200@aessf.org
SUMMARY:2200 Studios Open House for AES Members
DESCRIPTION:AES San Francisco members are invited to an exclusive tour of the iconic 2200 Studios for a one-of-a-kind open house event. \n2200 Studios first opened in 1973 as Record Plant Recording Studios. Operating for many years thereafter as “The Plant” and “Plant Studios”\, 2200 Studios is home to that San Francisco sound made famous by legendary artists\, producers\, and engineers coupled with some of the most extraordinary musical legends and antics that defined the California music scene and delivered hit after hit to the world around. \nThis preserved historic studio has been revitalized with a solid mix of vintage and modern technology and plenty of unparalleled vintage vibe. \nYou don’t want to miss this special evening for AES Members! \nDate: Thursday\, March 20th\, 2025\nTime: 6:30-9:00 pm PT \nThis is an exclusive event for AES Members. It’s free\, but you need to RSVP using your member number in the Access Code field to book your spot for this special event. \nRSVP Here \nArtists who have recorded here include: \nRick James\, Santana\, Fleetwood Mac\, Prince\, Deftones\, Mariah Carey\, Whitney Houston\, Chris Isaak\, Luther Vandross\, Fleetwood Mac\, Prince\, D’Angelo & The Vanguard\, Dave Matthews\, Huey Lewis and the News\, Aretha Franklin\, Widespread Panic\, Carrie Underwood\, Susan Tedeschi\, Too Short\, Primus\, Journey\, Cher\, Joe Walsh\, Van Morrison\, Sammy Hagar\, Jefferson Starship\, Tracy Chapman\, Los Lobos\, Tower of Power\, Larry Graham\, Bob Marley\, and Metallica.
URL:https://aessf.org/event/2200-studios-open-house-for-aes-members/
CATEGORIES:Home Page,Section Meetings
ATTACH;FMTTYPE=image/png:https://aessf.org/wp-content/uploads/2025/03/control-b-no-tv-Studio-2200.png
END:VEVENT
END:VCALENDAR