BEGIN:VCALENDAR
VERSION:2.0
PRODID:-//AES San Francisco Section - ECPv6.15.20//NONSGML v1.0//EN
CALSCALE:GREGORIAN
METHOD:PUBLISH
X-ORIGINAL-URL:https://aessf.org
X-WR-CALDESC:Events for AES San Francisco Section
REFRESH-INTERVAL;VALUE=DURATION:PT1H
X-Robots-Tag:noindex
X-PUBLISHED-TTL:PT1H
BEGIN:VTIMEZONE
TZID:America/Los_Angeles
BEGIN:DAYLIGHT
TZOFFSETFROM:-0800
TZOFFSETTO:-0700
TZNAME:PDT
DTSTART:20240310T100000
END:DAYLIGHT
BEGIN:STANDARD
TZOFFSETFROM:-0700
TZOFFSETTO:-0800
TZNAME:PST
DTSTART:20241103T090000
END:STANDARD
BEGIN:DAYLIGHT
TZOFFSETFROM:-0800
TZOFFSETTO:-0700
TZNAME:PDT
DTSTART:20250309T100000
END:DAYLIGHT
BEGIN:STANDARD
TZOFFSETFROM:-0700
TZOFFSETTO:-0800
TZNAME:PST
DTSTART:20251102T090000
END:STANDARD
BEGIN:DAYLIGHT
TZOFFSETFROM:-0800
TZOFFSETTO:-0700
TZNAME:PDT
DTSTART:20260308T100000
END:DAYLIGHT
BEGIN:STANDARD
TZOFFSETFROM:-0700
TZOFFSETTO:-0800
TZNAME:PST
DTSTART:20261101T090000
END:STANDARD
END:VTIMEZONE
BEGIN:VEVENT
DTSTART;TZID=America/Los_Angeles:20250417T180000
DTEND;TZID=America/Los_Angeles:20250417T193000
DTSTAMP:20260424T035053
CREATED:20250409T203927Z
LAST-MODIFIED:20250701T033600Z
UID:2059-1744912800-1744918200@aessf.org
SUMMARY:The Future of Immersive Sound
DESCRIPTION:Join us for an exciting panel discussion exploring how AI and other technologies will create new\, immersive audio worlds. Industry leaders from Skywalker Sound\, Meta\, Virtuel Works\, Spatial Explorer and AudioShake will dive into innovations that transform how we experience music. Don’t miss this unique opportunity to discover how cutting-edge technology is reshaping the art of listening. \nPresented in partnership with SF Jazz \nGet Tickets\n\nModerator: \n\n\n\nJessica Powell\nJessica Powell is the CEO and co-founder of AudioShake\, a stem-splitting AI technology that makes audio more editable\, accessible\, and useful\, powering new creative use and monetization across the entertainment and tech industries. The company works with all three major label groups\, most large US publishers and film studios\, and a wide range of broadcasters\, sports teams\, and tech companies. Prior to starting AudioShake\, Powell spent over a decade at Google\, where she sat on the company’s management team. She is also an award-winning author whose work has been published in the New York Times\, TIME\, WIRED\, and elsewhere.\n\n\n\nPanel: \n\n\n\nRémi Audfray\nRémi Audfray is an Engineering Manager on the XR Sonic team at Meta\, working at the intersection of spatial audio\, acoustic simulation\, signal processing\, and software architecture. Prior to joining Meta\, Rémi spent over 7 years on the Sound Technology Research team at Dolby Labs and then 3.5 years on AR audio at Magic Leap.\n\n\nJean-Marc Jot\nJean-Marc Jot is a globally-recognized audio technology innovator in consumer electronics and pro markets\, currently focusing more particularly on immersive audio\, hearing personalization and music technology innovation. He founded Virtuel Works to help accelerate the development and deployment of audio\, voice and music computing technologies that will power immersive experiences.  Has worked across virtual and augmented reality\, gaming\, broadcast\, cinema\, and music creation – with Magic Leap\, Creative Labs\, DTS / Xperi\, and iZotope / Native Instruments.\n\n\nMichael Romanowski\nMichael Romanowski is the chief mastering engineer of Coast Mastering in Berkeley\, California. He is one of the very first Immersive Audio Mastering engineers. Michael has been mastering records for over 30 years and more than 4000 albums. He’s a sought-after consultant and advisor for companies such as DOLBY\, SONY\, FRAUNHOFER\, and more. Five-time GRAMMY Award winner and Ten-time GRAMMY® nominee.\n\n\nDan Zeitman\nDan Zeitman\, founder and CTO of Spatial Explorer\, has produced immersive music and entertainment experiences for brands like Disney\, Bose\, Dolby\, and Capitol Records. His work includes the KOKOverse VR experience\, a music-driven virtual world\, and the Bose AR Star Wars Experience\, which used spatial audio and augmented reality for interactive storytelling. He is currently developing immersive music experiences for the Apple Vision Pro\, pushing the boundaries of how audiences engage with music and sound in XR.
URL:https://aessf.org/event/future-of-immersive-sound/
LOCATION:SFJAZZ Center\, 201 Franklin Street\, San Francisco\, CA\, 94102\, United States
CATEGORIES:Home Page,Section Meetings
ATTACH;FMTTYPE=image/jpeg:https://aessf.org/wp-content/uploads/2025/04/Immersive-Sound-Banner.jpg
END:VEVENT
END:VCALENDAR