BEGIN:VCALENDAR
VERSION:2.0
PRODID:-//AES San Francisco Section - ECPv6.15.20//NONSGML v1.0//EN
CALSCALE:GREGORIAN
METHOD:PUBLISH
X-ORIGINAL-URL:https://aessf.org
X-WR-CALDESC:Events for AES San Francisco Section
REFRESH-INTERVAL;VALUE=DURATION:PT1H
X-Robots-Tag:noindex
X-PUBLISHED-TTL:PT1H
BEGIN:VTIMEZONE
TZID:America/Los_Angeles
BEGIN:DAYLIGHT
TZOFFSETFROM:-0800
TZOFFSETTO:-0700
TZNAME:PDT
DTSTART:20250309T100000
END:DAYLIGHT
BEGIN:STANDARD
TZOFFSETFROM:-0700
TZOFFSETTO:-0800
TZNAME:PST
DTSTART:20251102T090000
END:STANDARD
BEGIN:DAYLIGHT
TZOFFSETFROM:-0800
TZOFFSETTO:-0700
TZNAME:PDT
DTSTART:20260308T100000
END:DAYLIGHT
BEGIN:STANDARD
TZOFFSETFROM:-0700
TZOFFSETTO:-0800
TZNAME:PST
DTSTART:20261101T090000
END:STANDARD
BEGIN:DAYLIGHT
TZOFFSETFROM:-0800
TZOFFSETTO:-0700
TZNAME:PDT
DTSTART:20270314T100000
END:DAYLIGHT
BEGIN:STANDARD
TZOFFSETFROM:-0700
TZOFFSETTO:-0800
TZNAME:PST
DTSTART:20271107T090000
END:STANDARD
END:VTIMEZONE
BEGIN:VEVENT
DTSTART;TZID=America/Los_Angeles:20260331T180000
DTEND;TZID=America/Los_Angeles:20260331T210000
DTSTAMP:20260423T112432
CREATED:20260224T215556Z
LAST-MODIFIED:20260227T033906Z
UID:2376-1774980000-1774990800@aessf.org
SUMMARY:Sony Playstation
DESCRIPTION:AES San Francisco members are invited to an exclusive tour of Sony PlayStation’s Creative Arts Music & Sound Studios for a one-of-a-kind open house event and exclusive tour of PlayStation Studios’ state-of-the-art facilities\, hosted by AES SF chapter member Anthony Caruso and the PlayStation Studios Music Team. \nThe team will present their production pipeline for interactive music\, with live Wwise demos showing how their workflow translates to the in-game experience. You’ll also hear about their work across game IP extensions—including TV\, film\, live concerts\, and GRAMMY®-nominated soundtracks like Helldivers II\, God of War: Ragnarok\, and Marvel’s Spider-Man 2. \nFollowing the presentation\, you’ll tour Studio A’s control room for an interactive music demo and explore the rest of the Music & Sound department. \nLight hors d’oeuvres and non-alcoholic refreshments will be provided. \nSchedule:\nDoors:   6:00 PM Networking and refreshments\nPresentation:   7:00-8:00 PM\nQ&A:   8:00-9:00 PM \nThis is an exclusive event for AES Members. It’s free\, but you need to RSVP using your member number in the promo field to book your spot for this special event. (Invitations will be sent to AES San Francisco members in March.)
URL:https://aessf.org/event/sony-playstation/
CATEGORIES:Section Meetings
ATTACH;FMTTYPE=image/png:https://aessf.org/wp-content/uploads/2026/02/Sony-logo-rectangle-scaled-e1772162743310.png
END:VEVENT
END:VCALENDAR