BEGIN:VCALENDAR
VERSION:2.0
PRODID:-//AES San Francisco Section - ECPv6.15.20//NONSGML v1.0//EN
CALSCALE:GREGORIAN
METHOD:PUBLISH
X-ORIGINAL-URL:https://aessf.org
X-WR-CALDESC:Events for AES San Francisco Section
REFRESH-INTERVAL;VALUE=DURATION:PT1H
X-Robots-Tag:noindex
X-PUBLISHED-TTL:PT1H
BEGIN:VTIMEZONE
TZID:America/Los_Angeles
BEGIN:DAYLIGHT
TZOFFSETFROM:-0800
TZOFFSETTO:-0700
TZNAME:PDT
DTSTART:20250309T100000
END:DAYLIGHT
BEGIN:STANDARD
TZOFFSETFROM:-0700
TZOFFSETTO:-0800
TZNAME:PST
DTSTART:20251102T090000
END:STANDARD
BEGIN:DAYLIGHT
TZOFFSETFROM:-0800
TZOFFSETTO:-0700
TZNAME:PDT
DTSTART:20260308T100000
END:DAYLIGHT
BEGIN:STANDARD
TZOFFSETFROM:-0700
TZOFFSETTO:-0800
TZNAME:PST
DTSTART:20261101T090000
END:STANDARD
BEGIN:DAYLIGHT
TZOFFSETFROM:-0800
TZOFFSETTO:-0700
TZNAME:PDT
DTSTART:20270314T100000
END:DAYLIGHT
BEGIN:STANDARD
TZOFFSETFROM:-0700
TZOFFSETTO:-0800
TZNAME:PST
DTSTART:20271107T090000
END:STANDARD
END:VTIMEZONE
BEGIN:VEVENT
DTSTART;TZID=America/Los_Angeles:20260518T180000
DTEND;TZID=America/Los_Angeles:20260518T210000
DTSTAMP:20260423T111412
CREATED:20260227T040329Z
LAST-MODIFIED:20260227T040425Z
UID:2388-1779127200-1779138000@aessf.org
SUMMARY:Physical Modeling Synthesis History\, Applications and the Future
DESCRIPTION:Join AES San Francisco for a presentation on Physical Modeling Synthesis History\, Applications and the Future\, with Gregory Pat Scandalis\, Dr. Julius O Smith III\, Nick Porcaro and Jordan Rudess at Stanford University’s Center for Computer Research in Music and Acoustics (CCRMA). \nSchedule: \n6:00pm doors\, networking & refreshments\n7:00-9:00pm presentation \n  \nThis event requires advance sign-up. Tickets will be available in May.
URL:https://aessf.org/event/physical-modeling-synthesis-history-applications-and-the-future/
LOCATION:CCRMA\, 660 Lomita Drive\, Stanford\, CA\, 94305\, United States
CATEGORIES:Section Meetings
ATTACH;FMTTYPE=image/jpeg:https://aessf.org/wp-content/uploads/2026/02/AES-CCRMA-Talkd-e1772164935119.jpg
END:VEVENT
END:VCALENDAR