BEGIN:VCALENDAR
VERSION:2.0
PRODID:-//AES San Francisco Section - ECPv6.15.20//NONSGML v1.0//EN
CALSCALE:GREGORIAN
METHOD:PUBLISH
X-WR-CALNAME:AES San Francisco Section
X-ORIGINAL-URL:https://aessf.org
X-WR-CALDESC:Events for AES San Francisco Section
REFRESH-INTERVAL;VALUE=DURATION:PT1H
X-Robots-Tag:noindex
X-PUBLISHED-TTL:PT1H
BEGIN:VTIMEZONE
TZID:America/Los_Angeles
BEGIN:DAYLIGHT
TZOFFSETFROM:-0800
TZOFFSETTO:-0700
TZNAME:PDT
DTSTART:20130310T100000
END:DAYLIGHT
BEGIN:STANDARD
TZOFFSETFROM:-0700
TZOFFSETTO:-0800
TZNAME:PST
DTSTART:20131103T090000
END:STANDARD
BEGIN:DAYLIGHT
TZOFFSETFROM:-0800
TZOFFSETTO:-0700
TZNAME:PDT
DTSTART:20140309T100000
END:DAYLIGHT
BEGIN:STANDARD
TZOFFSETFROM:-0700
TZOFFSETTO:-0800
TZNAME:PST
DTSTART:20141102T090000
END:STANDARD
BEGIN:DAYLIGHT
TZOFFSETFROM:-0800
TZOFFSETTO:-0700
TZNAME:PDT
DTSTART:20150308T100000
END:DAYLIGHT
BEGIN:STANDARD
TZOFFSETFROM:-0700
TZOFFSETTO:-0800
TZNAME:PST
DTSTART:20151101T090000
END:STANDARD
END:VTIMEZONE
BEGIN:VEVENT
DTSTART;TZID=America/Los_Angeles:20140204T193000
DTEND;TZID=America/Los_Angeles:20140204T213000
DTSTAMP:20260425T044006
CREATED:20150422T012246Z
LAST-MODIFIED:20150422T015559Z
UID:137-1391542200-1391549400@aessf.org
SUMMARY:Issues around mastering: an open discussion
DESCRIPTION:Refreshments at 7:00pm \nRSVP:  Required (space limited to a maximum of 25 people) \nTonight’s open discussion will concentrate on how the field of mastering has utilized existing analogue and evolving digital technologies. A short recap will show how the field of mastering developed from the age of the LP to the present. The facility as much outboard gear\, both tube and solid-state; attendees can compare differences between unprocessed and processed audio. \nIn addition\, we will touch on issues around high resolution recordings. First of all\, what defines “high resolution”; secondly\, evolving delivery formats; thirdly\, how mastering those recordings differs from Red Book Audio format. \nMichael Romanowski\, Michael Romanowski Mastering \nMichael Romanowski is a Grammy nominated Mastering engineer. He is the owner and chief mastering engineer at Michael Romanowski Mastering\, based in San Francisco. The owner of the historic Coast Recorders and a founder and co-owner of The Tape Project — an audiophile label that only releases real time copies of original analog masters on 1/4″ and 1/2″ tape. Michael serves as President of the The Recording Academy San Francisco Chapter (NARAS)\, is chair of the Presidents Council and serves on the National Advisory Council to the Producers and Engineers Wing. He teaches at San Francisco State University\, and is an active panelist at conferences such as TapeOp\, AES\, CES\, SXSW\, AES Mexico\, VSAC and NAMM. \nMichael also has begun a series called “Live at Coast” where artists record a live record in front of an audience in the studio. As a big supporter of the local music scene\, he also has a podcast with KFOG DJ Renee Richardson called Renee and Romo\, where they bring in local musicians to play and talk about their music. Michael has recorded live performances by Kenny Burrell\, Branford Marsalis\, Santana\, Narada Michael Walden\, Nels Cline\, Todd Snider\, Will Kimbrough\, American Bach Soloist\, The Oakland East Bay Symphony and many others. His extensive Mastering Credits include Third Eye Blind\, Pat Monahan\, Matt Nathanson\, Too $hort\, Dredge\, The Dynamites\, Alasdair Fraser\, Jacqui Naylor and many others.
URL:https://aessf.org/event/issues-around-mastering-an-open-discussion/
LOCATION:Coast Recorders\, 1340 Mission St\, San Francisco\, CA\, 94103\, United States
CATEGORIES:Home Page,Section Meetings
ATTACH;FMTTYPE=image/jpeg:https://aessf.org/wp-content/uploads/2015/01/Michael_Romanowski_Bio_Pic.jpg
END:VEVENT
END:VCALENDAR