BEGIN:VCALENDAR
VERSION:2.0
PRODID:-//AES San Francisco Section - ECPv6.15.20//NONSGML v1.0//EN
CALSCALE:GREGORIAN
METHOD:PUBLISH
X-ORIGINAL-URL:https://aessf.org
X-WR-CALDESC:Events for AES San Francisco Section
REFRESH-INTERVAL;VALUE=DURATION:PT1H
X-Robots-Tag:noindex
X-PUBLISHED-TTL:PT1H
BEGIN:VTIMEZONE
TZID:America/Los_Angeles
BEGIN:DAYLIGHT
TZOFFSETFROM:-0800
TZOFFSETTO:-0700
TZNAME:PDT
DTSTART:20230312T100000
END:DAYLIGHT
BEGIN:STANDARD
TZOFFSETFROM:-0700
TZOFFSETTO:-0800
TZNAME:PST
DTSTART:20231105T090000
END:STANDARD
BEGIN:DAYLIGHT
TZOFFSETFROM:-0800
TZOFFSETTO:-0700
TZNAME:PDT
DTSTART:20240310T100000
END:DAYLIGHT
BEGIN:STANDARD
TZOFFSETFROM:-0700
TZOFFSETTO:-0800
TZNAME:PST
DTSTART:20241103T090000
END:STANDARD
BEGIN:DAYLIGHT
TZOFFSETFROM:-0800
TZOFFSETTO:-0700
TZNAME:PDT
DTSTART:20250309T100000
END:DAYLIGHT
BEGIN:STANDARD
TZOFFSETFROM:-0700
TZOFFSETTO:-0800
TZNAME:PST
DTSTART:20251102T090000
END:STANDARD
END:VTIMEZONE
BEGIN:VEVENT
DTSTART;TZID=America/Los_Angeles:20240918T000000
DTEND;TZID=America/Los_Angeles:20241026T000000
DTSTAMP:20260424T143614
CREATED:20240912T032748Z
LAST-MODIFIED:20241102T223503Z
UID:1854-1726617600-1729900800@aessf.org
SUMMARY:AES San Francisco Elections 2025
DESCRIPTION:Election Cycle 2025\nEverything you need to know about the Audio Engineering Society San Francisco section committee elections. \nCall for Candidates: September 18 – October 25\, 2024\n \nIf you would like to nominate yourself or another audio professional\, please fill out the 2025 Call for Candidates form. \nVoting: An online ballot will be sent to members. Voting runs between November 1-15\, 2024. \nResults will be announced through email by December 1\, 2024. Newly elected officers and committee members begin their two-year terms on January 1\, 2025. \nFor 2025\, the positions of Vice Chair\, Treasurer\, and several committee member seats are up for election. These are all two-year positions. \nYou can read more about the duties at aessf.org/about/officer-duties and in our bylaws at aessf.org/about/bylaws. \nFAQs:\nHow much time does it take?\nAnswer: Minimally a couple of hours a month. Some volunteers put in more. We have planning meetings\, typically via Zoom. There are some subcommittees for additional focused work as needed\, like Media\, Studio Crawl\, and Bylaws. \nWhat does an AES San Francisco Committee Member do?\nAnswer: We ask everyone to contribute to at least one presentation each year. There are varied duties to putting together a meeting\, from selecting a topic/speaker\, lining up a venue\, emailing invites to our lists\, social media\, picking up meeting snacks\, and conducting the meeting. We often divide these duties\, so most meetings are a team production. \nWho can run for the AES Committee?\nAnswer: Any AES member\, associate member\, or student member can run for an officer or committee member position. All of our events are planned and produced by this team of volunteers. It’s a great way to be in the loop for networking and local audio industry information. Look at the past events they have produced over the years here. \nWhat if I have more questions?\nReach out to our AESSF Election Committee at elections@aessf.org.
URL:https://aessf.org/event/elections2025-2/
CATEGORIES:Home Page,Section Meetings
ATTACH;FMTTYPE=image/jpeg:https://aessf.org/wp-content/uploads/2024/09/Call-for-candidate.jpg
END:VEVENT
BEGIN:VEVENT
DTSTART;TZID=America/Los_Angeles:20240920T120000
DTEND;TZID=America/Los_Angeles:20240920T220000
DTSTAMP:20260424T143614
CREATED:20240124T112141Z
LAST-MODIFIED:20240920T190028Z
UID:1605-1726833600-1726869600@aessf.org
SUMMARY:Studio Crawl & Mixer 2024
DESCRIPTION:We’re bringing back our East Bay studio crawl on Friday\, September 20th\, with a mix of returning studios and some new additions. This is a one-day opportunity to visit some of the top audio facilities in the Oakland\, Alameda\, Berkeley & Richmond area\, followed by an audio-industry mixer at 25th Street Recording in Oakland. \nMember Tickets\nTickets are free for AES Members. Directions to sign up were emailed to current San Francisco members. If you are an AES Member\, but you aren’t part of the San Francisco Section\, please email studiocrawl@aessf.org and include your member number to be added to the list. \nGuest Tickets\nTickets\, which include everything you will need to know to find the participating studios on that day\, admission to the Mixer after\, with refreshments and beverages included\, are $20 and available at Eventbrite.  Service charges do apply. \nGet Tickets\nSchedule\n12:00 pm to 5:00 pm: Open Studios\nYou can get an inside look at many of the rehearsal\, recording and post-production studios in the East Bay. Be sure to pick up a raffle ticket at each stop\, for a chance to win our raffle prizes at the mixer. The more studios you visit\, the more chances to win. \nAES San Francisco will provide details for finding participating facilities to registered participants\, and you’ll be responsible for your own for transportation. There is no shuttle. If you’re car-challenged\, many of the studios can be reached by BART\, bus or bike. \n5:00 pm to 10:00 pm:\nAudio mixer and raffle at 25th Street Recording.\nMingle with other local Bay Area professional audio people and maybe win some prizes from the raffle drawing. AES will be providing refreshments for attendees at the mixer. \nParticipating Studios in 2024 include: \n\n25th Street Recording\nBird and Egg Recording Studio\nBrothers (Chinese) Recording\nCoast Mastering\nEast Bay Recorders\nHand Me Down Recording\nInfinite Studios\nRiley Sound Labs\nSanto Recording\nSkyline Studio\nSoundwave Studios\nStudio 132\nStudio X\nSurvivor Sound\n\n  \n  \n 
URL:https://aessf.org/event/studio-crawl-2024/
CATEGORIES:Home Page,Section Meetings
ATTACH;FMTTYPE=image/jpeg:https://aessf.org/wp-content/uploads/2019/02/25th-st-lobby-view.jpg
END:VEVENT
END:VCALENDAR