BEGIN:VCALENDAR
VERSION:2.0
PRODID:-//AES San Francisco Section - ECPv6.15.20//NONSGML v1.0//EN
CALSCALE:GREGORIAN
METHOD:PUBLISH
X-ORIGINAL-URL:https://aessf.org
X-WR-CALDESC:Events for AES San Francisco Section
REFRESH-INTERVAL;VALUE=DURATION:PT1H
X-Robots-Tag:noindex
X-PUBLISHED-TTL:PT1H
BEGIN:VTIMEZONE
TZID:America/Los_Angeles
BEGIN:DAYLIGHT
TZOFFSETFROM:-0800
TZOFFSETTO:-0700
TZNAME:PDT
DTSTART:20230312T100000
END:DAYLIGHT
BEGIN:STANDARD
TZOFFSETFROM:-0700
TZOFFSETTO:-0800
TZNAME:PST
DTSTART:20231105T090000
END:STANDARD
BEGIN:DAYLIGHT
TZOFFSETFROM:-0800
TZOFFSETTO:-0700
TZNAME:PDT
DTSTART:20240310T100000
END:DAYLIGHT
BEGIN:STANDARD
TZOFFSETFROM:-0700
TZOFFSETTO:-0800
TZNAME:PST
DTSTART:20241103T090000
END:STANDARD
BEGIN:DAYLIGHT
TZOFFSETFROM:-0800
TZOFFSETTO:-0700
TZNAME:PDT
DTSTART:20250309T100000
END:DAYLIGHT
BEGIN:STANDARD
TZOFFSETFROM:-0700
TZOFFSETTO:-0800
TZNAME:PST
DTSTART:20251102T090000
END:STANDARD
END:VTIMEZONE
BEGIN:VEVENT
DTSTART;TZID=America/Los_Angeles:20240731T180000
DTEND;TZID=America/Los_Angeles:20240731T220000
DTSTAMP:20260425T130141
CREATED:20240630T061353Z
LAST-MODIFIED:20240710T050723Z
UID:1753-1722448800-1722463200@aessf.org
SUMMARY:Experimental Music Panel Discussion and Performance
DESCRIPTION:Agenda \n\n6-7 pm: Welcome Reception\n7-8 pm: Panel Discussion\n8-8:30 pm: Q&A\n8:30-10: Performance\n\nPanel Discussion \nA diverse set of music experts and practicing musicians will be sharing their unique viewpoints on what experimental music is in 2024\, what kind of creative approaches they are applying to push the boundaries of the art form\, what the future holds for experimental musicians\, and more. The panelists will discuss\, exchange thoughts about their craft\, tools\, methods\, processes – while inspiring (and maybe even shocking) attendees by revealing what music can be.  \nPanelists: Julius Dobos\, Frank Martin\, Karen Stackpole\, William Winant\, Krys Bobrowski\nFacilitator: Brent Miller \nPerformance: \nFollowing the discussion\, panelists will give an improvisational live performance\, collaborating on stage the first time together.\n \nAES Members can register for FREE by entering their membership number in the promo code field. \nGet Tickets\n\n\n\nKaren Stackpole \nDrummer/percussionist Karen Stackpole started out as a rock drummer in the late ‘80s and soon became fascinated with improvised music and multi-media collaboration. She became active in the creative music scene\, playing new music and stretching beyond established boundaries as well as working with dancers\, spoken word\, and experimental film. She has a long-standing passion for gongs. In her exploration of metals\, she has cultivated some distinctive techniques for drawing harmonics out of tam tams with various implements. She specializes in dynamic soundscapes and textures and has contributed gong sounds to more conventional musical genres as well as recording source material for film soundtracks. In addition to solo work\, she has performed and recorded with various projects including Machine Shop: Live Amplified Gong Experience (a duo with electronics master\, Drew Webster)\, Sabbaticus Rex\, Ghost in the House\, Vorticella\, the Francis Wong Unit\, and the rock band Steel Hotcakes\, as well as being involved in numerous other collaborations. Most recently her work has focused on duo performances and recordings with experimental instrument builder Krys Bobrowski (Gliss Glass & Gongs)\, contrabassist Bill Noertker (Talking Frog)\, and guitarist extraordinaire\, Fred Frith.\n\n\nFranck Martin \nBorn and raised in France\, a 20-year resident of Fiji and traveller to all the Pacific Islands\, Franck Martin is now based out of San Francisco. His musical journey encompasses this multicultural experience. His search for sounds\, emotions\, going outside the rules\, led him to experiment with micro-tones and quadraphonic music using either his modular synthesizer or producing music in 5.1 surround sound\, ambisonic or Dolby Atmos/Spatial Audio. Franck Martin performs long sets\, 15-30mn or more of live music on his quadraphonic modular synthesizer. He produces electronic music\, organizes and promotes well attended events and concerts.\n\n\nJulius Dobos \nJulius Dobos is an award-winning\, platinum-album electronic music and film composer\, sound synthesist and mastering engineer\, best known for his eleven album releases and film scores. His scoring and production credits include Dragon Ball Z\, NCIS\, You Don’t Mess with the Zohan\, Paul Blart: Mall Cop\, Zookeeper\, and work with Grammy®-winning performers. Under his pseudonym\, forgotten future\, Julius builds musical universes and creates epic-ambient organic electronic music with a distinct character\, which heavily relies on cutting edge musical sound design and philosophical themes. Dobos’ digital installations and live multi-media performances promote the organic expression in electronic music and have attracted audiences internationally. His 2019 Los Angeles Human Intelligence Control show featured an inventive musical experience through digitally-tracked physical interaction with the audience. With a background in composition\, sound synthesis and audio production\, Dobos has also engineered\, mastered hundreds of records\, beta-tested and preset-programmed synthesizers and music technology tools for the past three decades. Dobos is a university professor\, the Vice Chair of AES San Francisco\, and the founder of the AI-Free Organization. He enjoys designing unique sonic concepts in his Studio CS\, a modular space is filled with vintage and cutting edge electronic musical instruments\, giving talks on the topics of creativity and electronic music culture.\n\n\nWilliam Winant \nWilliam Winant has collaborated with some of the most innovative and creative musicians of our time\, including Joelle Leandre\, John Cage\, Iannis Xenakis\, Pierre Boulez\, Frank Zappa\, Keith Jarrett\, Roscoe Mitchell\, Anthony Braxton\, Fred Frith\, James Tenney\, Terry Riley\, John Zorn\, Cecil Taylor\, Gerry Hemingway\, Mark Dresser\, Barry Guy\, Marilyn Crispell\, George Lewis\, Steve Reich and Musicians\, Nexus\, Charles Wuorinen\, Jean-Philippe Collard\, Frederic Rzewski\, Ursula Oppens\, Joan LaBarbara\, Annea Lockwood\, Danny Elfman/Oingo Boingo\, Ash Fure\, Sonic Youth\, Marc Ribot\, Keith Rowe\, Ikue Mori\, Joey Barron\, Lin Culbertson\, Bill Frisell\, Yo-Yo Ma\, Rova Saxophone Quartet\, Lawrence “Butch” Morris\, and the Kronos String Quartet.\n\n\nKrys Bobrowski \n \nKrys Bobrowski is a composer\, sound artist and musician based in Oakland CA. In addition to French horn\, she plays acoustic and electronic instruments of her own design. She is an active performer and improviser\, a long-time member of the improvisation ensemble Vorticella\, the Bobrowski/Stackpole Gliss Glass Gong project\, and a current member of Wendy Reid’s Bird Ensemble. Bobrowski earned her M.F.A. in Electronic Music and Recording Media from Mills College and her B.A. in Computers and Music from Dartmouth College where she first met Jon Appleton and Christian Wolff and became interested in electronics and experimental music. At Mills she studied computer music with Larry Polansky and developed an interest in interactive computer music. She has a long association with the Exploratorium as a sound exhibit developer\, artist-in-residence\, guest performer and speaker. Currently\, she teaches and directs the Electronic Music Program at the College of San Mateo. Bobrowski has presented her work in a number of music festivals and venues including the San Francisco Electronic Music Festival\, the Metronom Festival in Barcelona\, the Lincoln Center Out of Doors Festival in NYC\, the Ex Teresa Arte Actual Sound Art Festival in Mexico City\, and at the Konzerthaus Berlin with the Unitedberlin ensemble. Recent commissions include a work for choir and kelp horns for the SF Bay Area Chamber Choir\, a wind activated sound installation for Aeolian Day at a park in Oakland\, and a piece for Dan Goode’s Flexible Orchestra which included ten bassoons\, NYC.\n\n\nBrent Miller \nBrent Miller (b. 1978) is a composer\, performer\, and arts administrator based in San Francisco\, CA. Recent projects include works for Rova Saxophone Quartet\, violinist Eric km Clark (Southland Ensemble\, EAR Unit)\, Dither Electric Guitar Quartet\, and Sqwonk. He has received grants from Zellerbach Family Foundation and American Composers Forum to fund his work. He studied composition at the University of Arkansas with Robert Mueller and University of Missouri-Kansas City with James Mobberley and Paul Rudy. Brent is active in the arts administration field founding and serving as Managing Director for The Center for New Music in San Francisco\, a work/performance space that supports creative music\, as well as managing Rova:Arts\, a non-profit organization that supports Rova Saxophone Quartet. He also has worked with Other Minds\, helping to produce the annual Other Minds Festival\, and is a founding member of The Collected\, a group dedicated to the advancement of new music. \n\n\n\n\n 
URL:https://aessf.org/event/experimental-music/
LOCATION:Center for New Music\, 55 Taylor Street\, San Francisco\, CA\, 94102\, United States
CATEGORIES:Home Page,Section Meetings
ATTACH;FMTTYPE=image/jpeg:https://aessf.org/wp-content/uploads/2024/06/experimentalmusic.jpg
END:VEVENT
END:VCALENDAR