BEGIN:VCALENDAR
VERSION:2.0
PRODID:-//AES San Francisco Section - ECPv6.15.20//NONSGML v1.0//EN
CALSCALE:GREGORIAN
METHOD:PUBLISH
X-ORIGINAL-URL:https://aessf.org
X-WR-CALDESC:Events for AES San Francisco Section
REFRESH-INTERVAL;VALUE=DURATION:PT1H
X-Robots-Tag:noindex
X-PUBLISHED-TTL:PT1H
BEGIN:VTIMEZONE
TZID:America/Los_Angeles
BEGIN:DAYLIGHT
TZOFFSETFROM:-0800
TZOFFSETTO:-0700
TZNAME:PDT
DTSTART:20240310T100000
END:DAYLIGHT
BEGIN:STANDARD
TZOFFSETFROM:-0700
TZOFFSETTO:-0800
TZNAME:PST
DTSTART:20241103T090000
END:STANDARD
BEGIN:DAYLIGHT
TZOFFSETFROM:-0800
TZOFFSETTO:-0700
TZNAME:PDT
DTSTART:20250309T100000
END:DAYLIGHT
BEGIN:STANDARD
TZOFFSETFROM:-0700
TZOFFSETTO:-0800
TZNAME:PST
DTSTART:20251102T090000
END:STANDARD
BEGIN:DAYLIGHT
TZOFFSETFROM:-0800
TZOFFSETTO:-0700
TZNAME:PDT
DTSTART:20260308T100000
END:DAYLIGHT
BEGIN:STANDARD
TZOFFSETFROM:-0700
TZOFFSETTO:-0800
TZNAME:PST
DTSTART:20261101T090000
END:STANDARD
END:VTIMEZONE
BEGIN:VEVENT
DTSTART;TZID=America/Los_Angeles:20250926T120000
DTEND;TZID=America/Los_Angeles:20250926T220000
DTSTAMP:20260424T005420
CREATED:20250915T172116Z
LAST-MODIFIED:20250925T222133Z
UID:2047-1758888000-1758924000@aessf.org
SUMMARY:San Francisco Studio Crawl 2025 & Mixer
DESCRIPTION:We are back–ten years after we began–with another studio crawl in San Francisco. Join us for the largest audio engineering gathering in Northern California\, on Friday\, September 26th\, from noon to 10pm. Tickets are available now at https://StudioCrawl2025.eventbrite.com \nIt’s like a pub crawl\, open-house\, and house party all rolled into one day. Tickets will be required and space is limited. To attend and get the latest updates and info which you’ll need to participate\, book early. The map will be sent to registered participants the night before the crawl. \nBrooklyn Basin Studios\nDreamrack Studios\nFogel Sound Studios\nGetReel Productions\nHandsome Sound\nHobie’s Corner\nHyde Street Studios-Studio A\nJ Moe Soundcrafting\nLight Rail Studios\nMothership Studios\nOne Union Recording Studios\nOutpost Studio SF\nShutterMindz Studio\nSonic Roots Studio\nThe Beat Barn\nWally’s HydeOut\nWomen’s Audio Mission \nDue to the nature of the business\, there could be changes among studio availability which we will update on this list. \nOpen Studios\n12:00pm to 5:00pm:\nYou can get an inside look at many of the recording and post-production studios and rehearsal spaces in San Francisco. Be sure to pick up a raffle ticket at each stop\, for a chance to win our raffle prizes at the mixer. The more studios you visit\, the more chances to win lots of great gear\, software and swag from our sponsors. \nAES San Francisco will provide a list and details of participating facilities to registered participants in a password protected interactive map the evening before\, and you’ll be responsible for your own for transportation. There is no shuttle. If you’re car-challenged\, many of the studios can be reached by BART\, bus or bike. \nThe Big Audio Mixer and Raffle\n5:00pm to 10:00pm:\nHyde Street Studios\nStudio Crawl attendees are invited to mingle with hundreds of local Bay Area professional audio people\, maybe win some prizes from our raffle drawing. We’re still lining up prizes. Refreshments and beverages are included. \nNote: It’s very important that you register with the correct email address\, because all of the details you need to participate will be emailed to registered participants\, including the password protected map and addresses of participating the studios. \nOnly registered ticket holders can attend these studio tours and the mixer event. All of the details needed to participate will be sent by email to registered attendees. \n  \n \n 
URL:https://aessf.org/event/san-francisco-studio-crawl-2025/
CATEGORIES:Home Page,Section Meetings
ATTACH;FMTTYPE=image/jpeg:https://aessf.org/wp-content/uploads/2025/04/rivera-organ_orig.jpg
END:VEVENT
END:VCALENDAR