BEGIN:VCALENDAR
VERSION:2.0
PRODID:-//AES San Francisco Section - ECPv6.15.20//NONSGML v1.0//EN
CALSCALE:GREGORIAN
METHOD:PUBLISH
X-WR-CALNAME:AES San Francisco Section
X-ORIGINAL-URL:https://aessf.org
X-WR-CALDESC:Events for AES San Francisco Section
REFRESH-INTERVAL;VALUE=DURATION:PT1H
X-Robots-Tag:noindex
X-PUBLISHED-TTL:PT1H
BEGIN:VTIMEZONE
TZID:America/Los_Angeles
BEGIN:DAYLIGHT
TZOFFSETFROM:-0800
TZOFFSETTO:-0700
TZNAME:PDT
DTSTART:20250309T100000
END:DAYLIGHT
BEGIN:STANDARD
TZOFFSETFROM:-0700
TZOFFSETTO:-0800
TZNAME:PST
DTSTART:20251102T090000
END:STANDARD
BEGIN:DAYLIGHT
TZOFFSETFROM:-0800
TZOFFSETTO:-0700
TZNAME:PDT
DTSTART:20260308T100000
END:DAYLIGHT
BEGIN:STANDARD
TZOFFSETFROM:-0700
TZOFFSETTO:-0800
TZNAME:PST
DTSTART:20261101T090000
END:STANDARD
BEGIN:DAYLIGHT
TZOFFSETFROM:-0800
TZOFFSETTO:-0700
TZNAME:PDT
DTSTART:20270314T100000
END:DAYLIGHT
BEGIN:STANDARD
TZOFFSETFROM:-0700
TZOFFSETTO:-0800
TZNAME:PST
DTSTART:20271107T090000
END:STANDARD
END:VTIMEZONE
BEGIN:VEVENT
DTSTART;TZID=America/Los_Angeles:20260606T140000
DTEND;TZID=America/Los_Angeles:20260606T170000
DTSTAMP:20260423T082639
CREATED:20260227T042306Z
LAST-MODIFIED:20260227T055654Z
UID:2395-1780754400-1780765200@aessf.org
SUMMARY:Radio Repair Event at the CHRS Vintage Radio Museum
DESCRIPTION:The San Francisco Audio Engineering Society will be teaming up with the California Historic Radio Society for a fix-it even on their vintage radios. Together we’ll be trouble-shooting and fixing radios in the CHRS Vintage Radio Museum. \n  \nThis event requires tickets. Reservation information will be sent to AES San Francisco members this spring.
URL:https://aessf.org/event/radio-repair-event-at-the-chrs-vintage-radio-museum/
LOCATION:CHRS Vintage Radio Museum\, 2152 Central Avenue\, Alameda\, CA\, 94501\, United States
CATEGORIES:Section Meetings
ATTACH;FMTTYPE=image/png:https://aessf.org/wp-content/uploads/2026/02/CHRS-Museum-e1772166111623.png
END:VEVENT
END:VCALENDAR